BEGIN:VCALENDAR
VERSION:2.0
PRODID:-//hacksw/handcal//NONSGML v1.0//EN
BEGIN:VEVENT
DTSTAMP:20251105T163000Z
DTSTART:20251105T163000Z
DTEND:20251105T163000Z
LOCATION:Begegnungsstätte „Alte Remise“, Querfurter Straße 10, Bad Lauchstädt, 06246, Deutschland
SUMMARY:Vorsicht an der Bahnsteigkante! - 4
END:VEVENT
END:VCALENDAR
