BEGIN:VCALENDAR
VERSION:2.0
PRODID:-//hacksw/handcal//NONSGML v1.0//EN
BEGIN:VEVENT
DTSTAMP:20251027T173000Z
DTSTART:20251027T173000Z
DTEND:20251027T173000Z
LOCATION:Bürger- und Vereinshaus Bad Dürrenberg, Witzlebenweg 7b, Bad Dürrenberg, 06231, Deutschland
SUMMARY:Buchlesung - Der missbrauchte Antifaschismus (Dr. Jürgen Mannke)
END:VEVENT
END:VCALENDAR
