BEGIN:VCALENDAR
VERSION:2.0
PRODID:-//hacksw/handcal//NONSGML v1.0//EN
BEGIN:VEVENT
DTSTAMP:20251010T090000Z
DTSTART:20251010T090000Z
DTEND:20251010T090000Z
LOCATION:Leuna Werke - Tor 1, Am Haupttor, Leuna, 06237, Deutschland
SUMMARY:Werksbesichtigung des Leuna Werkes
END:VEVENT
END:VCALENDAR
