BEGIN:VCALENDAR
VERSION:2.0
PRODID:-//hacksw/handcal//NONSGML v1.0//EN
BEGIN:VEVENT
DTSTAMP:20210903T150000Z
DTSTART:20210903T150000Z
DTEND:20210903T150000Z
LOCATION:Keramikscheune Spickendorf, Piltizer Straße 2, Landsberg OT Spickendorf, 06188, Deutschland
SUMMARY:Sommerfest CDU-Kreisverband Saalekreis
END:VEVENT
END:VCALENDAR
